BEGIN:VCALENDAR
VERSION:2.0
PRODID:-//humanesocietycc.org//NONSGML kigkonsult.se iCalcreator 2.30.10//
CALSCALE:GREGORIAN
METHOD:PUBLISH
UID:dfaa1d36-9c38-4e76-a4a6-f12500fae5fe
X-WR-CALDESC:
X-WR-RELCALID:0fa24b01b0a359929698d6d6bfdc394f
X-WR-TIMEZONE:America/New_York
BEGIN:VTIMEZONE
TZID:America/New_York
BEGIN:STANDARD
TZNAME:EST
DTSTART:20261101T020000
TZOFFSETFROM:-0400
TZOFFSETTO:-0500
RDATE:20271107T020000
END:STANDARD
BEGIN:DAYLIGHT
TZNAME:EDT
DTSTART:20270314T020000
TZOFFSETFROM:-0500
TZOFFSETTO:-0400
RDATE:20280312T020000
END:DAYLIGHT
END:VTIMEZONE
BEGIN:VEVENT
UID:846984a1-6149-417b-8c17-8c017fe65f90
DTSTAMP:20260421T221359Z
DESCRIPTION:
DTSTART;TZID=America/New_York:20270322T000000
DTEND;TZID=America/New_York:20270322T235900
LOCATION:
SUMMARY:Shelter Closed
END:VEVENT
END:VCALENDAR
