BEGIN:VCALENDAR
VERSION:2.0
PRODID:-//humanesocietycc.org//NONSGML kigkonsult.se iCalcreator 2.30.10//
CALSCALE:GREGORIAN
METHOD:PUBLISH
UID:3a9eb998-4d4c-4486-9aab-70e9334ac9e0
X-WR-CALDESC:
X-WR-RELCALID:8873990f9bd13aa3ebf6f1effe748a13
X-WR-TIMEZONE:America/New_York
BEGIN:VTIMEZONE
TZID:America/New_York
BEGIN:STANDARD
TZNAME:EST
DTSTART:20261101T020000
TZOFFSETFROM:-0400
TZOFFSETTO:-0500
RDATE:20271107T020000
END:STANDARD
BEGIN:DAYLIGHT
TZNAME:EDT
DTSTART:20270314T020000
TZOFFSETFROM:-0500
TZOFFSETTO:-0400
RDATE:20280312T020000
END:DAYLIGHT
END:VTIMEZONE
BEGIN:VEVENT
UID:39065a25-67ca-4c6c-a344-ea54c93a63d4
DTSTAMP:20260421T221016Z
DESCRIPTION:
DTSTART;TZID=America/New_York:20270329T000000
DTEND;TZID=America/New_York:20270329T235900
LOCATION:
SUMMARY:Shelter Closed
END:VEVENT
END:VCALENDAR
