BEGIN:VCALENDAR
VERSION:2.0
PRODID:-//humanesocietycc.org//NONSGML kigkonsult.se iCalcreator 2.30.10//
CALSCALE:GREGORIAN
METHOD:PUBLISH
UID:6618eafe-f59c-4cad-b1e8-76e6f3b93323
X-WR-CALDESC:
X-WR-RELCALID:0978dfb66537ca725df9e0c8b89c12b1
X-WR-TIMEZONE:America/New_York
BEGIN:VTIMEZONE
TZID:America/New_York
BEGIN:STANDARD
TZNAME:EST
DTSTART:20261101T020000
TZOFFSETFROM:-0400
TZOFFSETTO:-0500
RDATE:20271107T020000
END:STANDARD
BEGIN:DAYLIGHT
TZNAME:EDT
DTSTART:20270314T020000
TZOFFSETFROM:-0500
TZOFFSETTO:-0400
RDATE:20280312T020000
END:DAYLIGHT
END:VTIMEZONE
BEGIN:VEVENT
UID:c62627d0-5efc-4777-9db5-1cc378dc607b
DTSTAMP:20260421T233202Z
DESCRIPTION:
DTSTART;TZID=America/New_York:20270426T000000
DTEND;TZID=America/New_York:20270426T235900
LOCATION:
SUMMARY:Shelter Closed
END:VEVENT
END:VCALENDAR
