BEGIN:VCALENDAR
VERSION:2.0
PRODID:-//humanesocietycc.org//NONSGML kigkonsult.se iCalcreator 2.30.10//
CALSCALE:GREGORIAN
METHOD:PUBLISH
UID:fda5df62-dfcd-4c89-9899-36507efa3cd4
X-WR-CALDESC:
X-WR-RELCALID:d89d2e8dfafda93abd687438b25acdca
X-WR-TIMEZONE:America/New_York
BEGIN:VTIMEZONE
TZID:America/New_York
BEGIN:STANDARD
TZNAME:EST
DTSTART:20261101T020000
TZOFFSETFROM:-0400
TZOFFSETTO:-0500
RDATE:20271107T020000
RDATE:20281105T020000
END:STANDARD
BEGIN:DAYLIGHT
TZNAME:EDT
DTSTART:20270314T020000
TZOFFSETFROM:-0500
TZOFFSETTO:-0400
RDATE:20280312T020000
END:DAYLIGHT
END:VTIMEZONE
BEGIN:VEVENT
UID:17546b1a-b38f-4eea-95c0-dff802bddcd4
DTSTAMP:20260422T010127Z
DESCRIPTION:
DTSTART;TZID=America/New_York:20270517T000000
DTEND;TZID=America/New_York:20270517T235900
LOCATION:
SUMMARY:Shelter Closed
END:VEVENT
END:VCALENDAR
