BEGIN:VCALENDAR
VERSION:2.0
PRODID:-//humanesocietycc.org//NONSGML kigkonsult.se iCalcreator 2.30.10//
CALSCALE:GREGORIAN
METHOD:PUBLISH
UID:c91aa9a7-6260-4e90-98f1-6ce06f1bfbb2
X-WR-CALDESC:
X-WR-RELCALID:d8ab314e0be2f8a31bea49a0ae532824
X-WR-TIMEZONE:America/New_York
BEGIN:VTIMEZONE
TZID:America/New_York
BEGIN:STANDARD
TZNAME:EST
DTSTART:20261101T020000
TZOFFSETFROM:-0400
TZOFFSETTO:-0500
RDATE:20271107T020000
RDATE:20281105T020000
END:STANDARD
BEGIN:DAYLIGHT
TZNAME:EDT
DTSTART:20270314T020000
TZOFFSETFROM:-0500
TZOFFSETTO:-0400
RDATE:20280312T020000
END:DAYLIGHT
END:VTIMEZONE
BEGIN:VEVENT
UID:97c6dfda-7fa6-467d-8238-481ac6c58e3a
DTSTAMP:20260422T010413Z
DESCRIPTION:
DTSTART;TZID=America/New_York:20270531T000000
DTEND;TZID=America/New_York:20270531T235900
LOCATION:
SUMMARY:Shelter Closed
END:VEVENT
END:VCALENDAR
