BEGIN:VCALENDAR
VERSION:2.0
PRODID:-//humanesocietycc.org//NONSGML kigkonsult.se iCalcreator 2.30.10//
CALSCALE:GREGORIAN
METHOD:PUBLISH
UID:2ba88ef3-9681-451f-8662-55f225f0e3e7
X-WR-CALDESC:
X-WR-RELCALID:57f4b9eec0c0753fd8a6049af0ec55d5
X-WR-TIMEZONE:America/New_York
BEGIN:VTIMEZONE
TZID:America/New_York
BEGIN:STANDARD
TZNAME:EST
DTSTART:20261101T020000
TZOFFSETFROM:-0400
TZOFFSETTO:-0500
RDATE:20271107T020000
RDATE:20281105T020000
END:STANDARD
BEGIN:DAYLIGHT
TZNAME:EDT
DTSTART:20270314T020000
TZOFFSETFROM:-0500
TZOFFSETTO:-0400
RDATE:20280312T020000
END:DAYLIGHT
END:VTIMEZONE
BEGIN:VEVENT
UID:b7b24347-8395-43c3-b644-3428db74d5d2
DTSTAMP:20260422T022737Z
DESCRIPTION:
DTSTART;TZID=America/New_York:20270607T000000
DTEND;TZID=America/New_York:20270607T235900
LOCATION:
SUMMARY:Shelter Closed
END:VEVENT
END:VCALENDAR
