BEGIN:VCALENDAR
VERSION:2.0
PRODID:-//humanesocietycc.org//NONSGML kigkonsult.se iCalcreator 2.30.10//
CALSCALE:GREGORIAN
METHOD:PUBLISH
UID:d0b4383e-7eaa-4deb-954e-8a92f9223129
X-WR-CALDESC:
X-WR-RELCALID:e8b81a028377e3dbcdf7b12733ccfec7
X-WR-TIMEZONE:America/New_York
BEGIN:VTIMEZONE
TZID:America/New_York
BEGIN:STANDARD
TZNAME:EST
DTSTART:20261101T020000
TZOFFSETFROM:-0400
TZOFFSETTO:-0500
RDATE:20271107T020000
RDATE:20281105T020000
END:STANDARD
BEGIN:DAYLIGHT
TZNAME:EDT
DTSTART:20270314T020000
TZOFFSETFROM:-0500
TZOFFSETTO:-0400
RDATE:20280312T020000
END:DAYLIGHT
END:VTIMEZONE
BEGIN:VEVENT
UID:033ad29f-a836-4eb8-b51a-0da0fe7de947
DTSTAMP:20260422T022905Z
DESCRIPTION:
DTSTART;TZID=America/New_York:20270614T000000
DTEND;TZID=America/New_York:20270614T235900
LOCATION:
SUMMARY:Shelter Closed
END:VEVENT
END:VCALENDAR
