BEGIN:VCALENDAR
VERSION:2.0
PRODID:-//humanesocietycc.org//NONSGML kigkonsult.se iCalcreator 2.30.10//
CALSCALE:GREGORIAN
METHOD:PUBLISH
UID:0ce59091-8096-4926-a492-151312c99957
X-WR-CALDESC:
X-WR-RELCALID:1423e6789e4c0a6d84436ed601301fc2
X-WR-TIMEZONE:America/New_York
BEGIN:VTIMEZONE
TZID:America/New_York
BEGIN:STANDARD
TZNAME:EST
DTSTART:20261101T020000
TZOFFSETFROM:-0400
TZOFFSETTO:-0500
RDATE:20271107T020000
RDATE:20281105T020000
END:STANDARD
BEGIN:DAYLIGHT
TZNAME:EDT
DTSTART:20270314T020000
TZOFFSETFROM:-0500
TZOFFSETTO:-0400
RDATE:20280312T020000
END:DAYLIGHT
END:VTIMEZONE
BEGIN:VEVENT
UID:5ab9fffc-23a6-4101-979b-cf273981a1ca
DTSTAMP:20260422T023425Z
DESCRIPTION:
DTSTART;TZID=America/New_York:20270621T000000
DTEND;TZID=America/New_York:20270621T235900
LOCATION:
SUMMARY:Shelter Closed
END:VEVENT
END:VCALENDAR
