BEGIN:VCALENDAR
VERSION:2.0
PRODID:-//humanesocietycc.org//NONSGML kigkonsult.se iCalcreator 2.30.10//
CALSCALE:GREGORIAN
METHOD:PUBLISH
UID:73d2ef83-af88-4a91-ac36-789bea0e3eda
X-WR-CALDESC:
X-WR-RELCALID:73ea0129f8059d2fe1ab30c312775ec6
X-WR-TIMEZONE:America/New_York
BEGIN:VTIMEZONE
TZID:America/New_York
BEGIN:STANDARD
TZNAME:EST
DTSTART:20261101T020000
TZOFFSETFROM:-0400
TZOFFSETTO:-0500
RDATE:20271107T020000
RDATE:20281105T020000
END:STANDARD
BEGIN:DAYLIGHT
TZNAME:EDT
DTSTART:20270314T020000
TZOFFSETFROM:-0500
TZOFFSETTO:-0400
RDATE:20280312T020000
END:DAYLIGHT
END:VTIMEZONE
BEGIN:VEVENT
UID:9f43abc0-4ddb-43c1-a7ad-a0b4e70ce2b0
DTSTAMP:20260422T040432Z
DESCRIPTION:
DTSTART;TZID=America/New_York:20270705T000000
DTEND;TZID=America/New_York:20270705T235900
LOCATION:
SUMMARY:Shelter Closed
END:VEVENT
END:VCALENDAR
