BEGIN:VCALENDAR
VERSION:2.0
PRODID:-//humanesocietycc.org//NONSGML kigkonsult.se iCalcreator 2.30.10//
CALSCALE:GREGORIAN
METHOD:PUBLISH
UID:098de7b7-39b1-4528-bdc6-3f153ed815b2
X-WR-CALDESC:
X-WR-RELCALID:e0c318070ec658d00656cf05b79eb80a
X-WR-TIMEZONE:America/New_York
BEGIN:VTIMEZONE
TZID:America/New_York
BEGIN:STANDARD
TZNAME:EST
DTSTART:20261101T020000
TZOFFSETFROM:-0400
TZOFFSETTO:-0500
RDATE:20271107T020000
RDATE:20281105T020000
END:STANDARD
BEGIN:DAYLIGHT
TZNAME:EDT
DTSTART:20270314T020000
TZOFFSETFROM:-0500
TZOFFSETTO:-0400
RDATE:20280312T020000
END:DAYLIGHT
END:VTIMEZONE
BEGIN:VEVENT
UID:9120c4f7-15dd-4d69-bfcc-57048f54a3e7
DTSTAMP:20260422T040433Z
DESCRIPTION:
DTSTART;TZID=America/New_York:20270719T000000
DTEND;TZID=America/New_York:20270719T235900
LOCATION:
SUMMARY:Shelter Closed
END:VEVENT
END:VCALENDAR
