BEGIN:VCALENDAR
VERSION:2.0
PRODID:-//humanesocietycc.org//NONSGML kigkonsult.se iCalcreator 2.30.10//
CALSCALE:GREGORIAN
METHOD:PUBLISH
UID:e23ceb14-717a-4767-87d5-6d8215e57be6
X-WR-CALDESC:
X-WR-RELCALID:290be34d3d7d7965c3c1845f217c725d
X-WR-TIMEZONE:America/New_York
BEGIN:VTIMEZONE
TZID:America/New_York
BEGIN:STANDARD
TZNAME:EST
DTSTART:20261101T020000
TZOFFSETFROM:-0400
TZOFFSETTO:-0500
RDATE:20271107T020000
RDATE:20281105T020000
END:STANDARD
BEGIN:DAYLIGHT
TZNAME:EDT
DTSTART:20270314T020000
TZOFFSETFROM:-0500
TZOFFSETTO:-0400
RDATE:20280312T020000
END:DAYLIGHT
END:VTIMEZONE
BEGIN:VEVENT
UID:7f2b070e-3bd7-4e06-85d2-b0728abc75ab
DTSTAMP:20260422T040510Z
DESCRIPTION:
DTSTART;TZID=America/New_York:20270726T000000
DTEND;TZID=America/New_York:20270726T235900
LOCATION:
SUMMARY:Shelter Closed
END:VEVENT
END:VCALENDAR
