BEGIN:VCALENDAR
VERSION:2.0
PRODID:-//humanesocietycc.org//NONSGML kigkonsult.se iCalcreator 2.30.10//
CALSCALE:GREGORIAN
METHOD:PUBLISH
UID:075b988b-96c4-4d9a-88fd-8e8ba69acc0f
X-WR-CALDESC:
X-WR-RELCALID:f8939020a5de98f78784746a58f0fc3b
X-WR-TIMEZONE:America/New_York
BEGIN:VTIMEZONE
TZID:America/New_York
BEGIN:STANDARD
TZNAME:EST
DTSTART:20261101T020000
TZOFFSETFROM:-0400
TZOFFSETTO:-0500
RDATE:20271107T020000
RDATE:20281105T020000
END:STANDARD
BEGIN:DAYLIGHT
TZNAME:EDT
DTSTART:20270314T020000
TZOFFSETFROM:-0500
TZOFFSETTO:-0400
RDATE:20280312T020000
END:DAYLIGHT
END:VTIMEZONE
BEGIN:VEVENT
UID:2978e7b6-ffb6-4986-b693-1009e8e60a04
DTSTAMP:20260422T054112Z
DESCRIPTION:
DTSTART;TZID=America/New_York:20270802T000000
DTEND;TZID=America/New_York:20270802T235900
LOCATION:
SUMMARY:Shelter Closed
END:VEVENT
END:VCALENDAR
