BEGIN:VCALENDAR
VERSION:2.0
PRODID:-//humanesocietycc.org//NONSGML kigkonsult.se iCalcreator 2.30.10//
CALSCALE:GREGORIAN
METHOD:PUBLISH
UID:0e43f82c-7d70-4990-a34d-9c9cd08ee92b
X-WR-CALDESC:
X-WR-RELCALID:d7883b2678879660543118e61f2391e3
X-WR-TIMEZONE:America/New_York
BEGIN:VTIMEZONE
TZID:America/New_York
BEGIN:STANDARD
TZNAME:EST
DTSTART:20261101T020000
TZOFFSETFROM:-0400
TZOFFSETTO:-0500
RDATE:20271107T020000
RDATE:20281105T020000
END:STANDARD
BEGIN:DAYLIGHT
TZNAME:EDT
DTSTART:20270314T020000
TZOFFSETFROM:-0500
TZOFFSETTO:-0400
RDATE:20280312T020000
END:DAYLIGHT
END:VTIMEZONE
BEGIN:VEVENT
UID:404ba948-8b88-4759-908a-bed51258bbb0
DTSTAMP:20260422T054040Z
DESCRIPTION:
DTSTART;TZID=America/New_York:20270809T000000
DTEND;TZID=America/New_York:20270809T235900
LOCATION:
SUMMARY:Shelter Closed
END:VEVENT
END:VCALENDAR
