BEGIN:VCALENDAR
VERSION:2.0
PRODID:-//humanesocietycc.org//NONSGML kigkonsult.se iCalcreator 2.30.10//
CALSCALE:GREGORIAN
METHOD:PUBLISH
UID:32ec9c22-7394-4193-8e9b-7ed2a96c1ab5
X-WR-CALDESC:
X-WR-RELCALID:1105867754de44b70d21dd9a55d5a6a4
X-WR-TIMEZONE:America/New_York
BEGIN:VTIMEZONE
TZID:America/New_York
BEGIN:STANDARD
TZNAME:EST
DTSTART:20261101T020000
TZOFFSETFROM:-0400
TZOFFSETTO:-0500
RDATE:20271107T020000
RDATE:20281105T020000
END:STANDARD
BEGIN:DAYLIGHT
TZNAME:EDT
DTSTART:20270314T020000
TZOFFSETFROM:-0500
TZOFFSETTO:-0400
RDATE:20280312T020000
END:DAYLIGHT
END:VTIMEZONE
BEGIN:VEVENT
UID:f071dec1-110f-4ecf-ae8e-c8fbd10a0f3c
DTSTAMP:20260422T054020Z
DESCRIPTION:
DTSTART;TZID=America/New_York:20270823T000000
DTEND;TZID=America/New_York:20270823T235900
LOCATION:
SUMMARY:Shelter Closed
END:VEVENT
END:VCALENDAR
