BEGIN:VCALENDAR
VERSION:2.0
PRODID:-//humanesocietycc.org//NONSGML kigkonsult.se iCalcreator 2.30.10//
CALSCALE:GREGORIAN
METHOD:PUBLISH
UID:d6fb4221-5c39-4f6a-9637-7cfbdeb5d550
X-WR-CALDESC:
X-WR-RELCALID:207c7d1de2825fb16ba85a3edfea9ee3
X-WR-TIMEZONE:America/New_York
BEGIN:VTIMEZONE
TZID:America/New_York
BEGIN:STANDARD
TZNAME:EST
DTSTART:20261101T020000
TZOFFSETFROM:-0400
TZOFFSETTO:-0500
RDATE:20271107T020000
RDATE:20281105T020000
END:STANDARD
BEGIN:DAYLIGHT
TZNAME:EDT
DTSTART:20270314T020000
TZOFFSETFROM:-0500
TZOFFSETTO:-0400
RDATE:20280312T020000
END:DAYLIGHT
END:VTIMEZONE
BEGIN:VEVENT
UID:4825f94a-fd42-4765-91ad-7c9321a040e1
DTSTAMP:20260422T054458Z
DESCRIPTION:
DTSTART;TZID=America/New_York:20270830T000000
DTEND;TZID=America/New_York:20270830T235900
LOCATION:
SUMMARY:Shelter Closed
END:VEVENT
END:VCALENDAR
