BEGIN:VCALENDAR
VERSION:2.0
PRODID:-//humanesocietycc.org//NONSGML kigkonsult.se iCalcreator 2.30.10//
CALSCALE:GREGORIAN
METHOD:PUBLISH
UID:b4e9ba7f-e001-428f-8526-b75f64601bf2
X-WR-CALDESC:
X-WR-RELCALID:0f0d468ca22340095bba22874e81184b
X-WR-TIMEZONE:America/New_York
BEGIN:VTIMEZONE
TZID:America/New_York
BEGIN:STANDARD
TZNAME:EST
DTSTART:20261101T020000
TZOFFSETFROM:-0400
TZOFFSETTO:-0500
RDATE:20271107T020000
RDATE:20281105T020000
END:STANDARD
BEGIN:DAYLIGHT
TZNAME:EDT
DTSTART:20270314T020000
TZOFFSETFROM:-0500
TZOFFSETTO:-0400
RDATE:20280312T020000
RDATE:20290311T020000
END:DAYLIGHT
END:VTIMEZONE
BEGIN:VEVENT
UID:3df20dd5-5c53-4112-aba8-1d5aae58c37e
DTSTAMP:20260422T073338Z
DESCRIPTION:
DTSTART;TZID=America/New_York:20270920T000000
DTEND;TZID=America/New_York:20270920T235900
LOCATION:
SUMMARY:Shelter Closed
END:VEVENT
END:VCALENDAR
