BEGIN:VCALENDAR
VERSION:2.0
PRODID:-//humanesocietycc.org//NONSGML kigkonsult.se iCalcreator 2.30.10//
CALSCALE:GREGORIAN
METHOD:PUBLISH
UID:9b5bc966-3534-4a4d-a9d2-5b388fbca645
X-WR-CALDESC:
X-WR-RELCALID:8e24955508ccefa8de7c8e93df8d9912
X-WR-TIMEZONE:America/New_York
BEGIN:VTIMEZONE
TZID:America/New_York
BEGIN:STANDARD
TZNAME:EST
DTSTART:20261101T020000
TZOFFSETFROM:-0400
TZOFFSETTO:-0500
RDATE:20271107T020000
RDATE:20281105T020000
END:STANDARD
BEGIN:DAYLIGHT
TZNAME:EDT
DTSTART:20270314T020000
TZOFFSETFROM:-0500
TZOFFSETTO:-0400
RDATE:20280312T020000
RDATE:20290311T020000
END:DAYLIGHT
END:VTIMEZONE
BEGIN:VEVENT
UID:9d250214-cc1a-4e36-878b-75794303c34c
DTSTAMP:20260422T073108Z
DESCRIPTION:
DTSTART;TZID=America/New_York:20270927T000000
DTEND;TZID=America/New_York:20270927T235900
LOCATION:
SUMMARY:Shelter Closed
END:VEVENT
END:VCALENDAR
