BEGIN:VCALENDAR
VERSION:2.0
PRODID:-//humanesocietycc.org//NONSGML kigkonsult.se iCalcreator 2.30.10//
CALSCALE:GREGORIAN
METHOD:PUBLISH
UID:19e88f2e-df9a-47f5-ba21-2d3552d6fc6f
X-WR-CALDESC:
X-WR-RELCALID:e016794d3b09ea789efddaa8e9270de0
X-WR-TIMEZONE:America/New_York
BEGIN:VTIMEZONE
TZID:America/New_York
BEGIN:STANDARD
TZNAME:EST
DTSTART:20261101T020000
TZOFFSETFROM:-0400
TZOFFSETTO:-0500
RDATE:20271107T020000
RDATE:20281105T020000
END:STANDARD
BEGIN:DAYLIGHT
TZNAME:EDT
DTSTART:20270314T020000
TZOFFSETFROM:-0500
TZOFFSETTO:-0400
RDATE:20280312T020000
RDATE:20290311T020000
END:DAYLIGHT
END:VTIMEZONE
BEGIN:VEVENT
UID:11132591-4b71-49a9-9768-daa891f74cf6
DTSTAMP:20260422T090204Z
DESCRIPTION:
DTSTART;TZID=America/New_York:20271011T000000
DTEND;TZID=America/New_York:20271011T235900
LOCATION:
SUMMARY:Shelter Closed
END:VEVENT
END:VCALENDAR
