BEGIN:VCALENDAR
VERSION:2.0
PRODID:-//humanesocietycc.org//NONSGML kigkonsult.se iCalcreator 2.30.10//
CALSCALE:GREGORIAN
METHOD:PUBLISH
UID:04afd7f5-4c59-4282-bbb7-54a1a57716d1
X-WR-CALDESC:
X-WR-RELCALID:86e574822f76a7141887c29e291a56ba
X-WR-TIMEZONE:America/New_York
BEGIN:VTIMEZONE
TZID:America/New_York
BEGIN:STANDARD
TZNAME:EST
DTSTART:20261101T020000
TZOFFSETFROM:-0400
TZOFFSETTO:-0500
RDATE:20271107T020000
RDATE:20281105T020000
END:STANDARD
BEGIN:DAYLIGHT
TZNAME:EDT
DTSTART:20270314T020000
TZOFFSETFROM:-0500
TZOFFSETTO:-0400
RDATE:20280312T020000
RDATE:20290311T020000
END:DAYLIGHT
END:VTIMEZONE
BEGIN:VEVENT
UID:3fee1d8f-bbf1-4bcc-90d4-d63a03940a76
DTSTAMP:20260422T091826Z
DESCRIPTION:
DTSTART;TZID=America/New_York:20271018T000000
DTEND;TZID=America/New_York:20271018T235900
LOCATION:
SUMMARY:Shelter Closed
END:VEVENT
END:VCALENDAR
