BEGIN:VCALENDAR
VERSION:2.0
PRODID:-//humanesocietycc.org//NONSGML kigkonsult.se iCalcreator 2.30.10//
CALSCALE:GREGORIAN
METHOD:PUBLISH
UID:a9c6cfdf-5c78-454b-a470-0ff87a89f2db
X-WR-CALDESC:
X-WR-RELCALID:098e5d82a93ed191e5f97c25f7b5cdb9
X-WR-TIMEZONE:America/New_York
BEGIN:VTIMEZONE
TZID:America/New_York
BEGIN:STANDARD
TZNAME:EST
DTSTART:20261101T020000
TZOFFSETFROM:-0400
TZOFFSETTO:-0500
RDATE:20271107T020000
RDATE:20281105T020000
END:STANDARD
BEGIN:DAYLIGHT
TZNAME:EDT
DTSTART:20270314T020000
TZOFFSETFROM:-0500
TZOFFSETTO:-0400
RDATE:20280312T020000
RDATE:20290311T020000
END:DAYLIGHT
END:VTIMEZONE
BEGIN:VEVENT
UID:e49d67d0-1fe4-4a24-bb2c-e148f2e652e9
DTSTAMP:20260422T103856Z
DESCRIPTION:
DTSTART;TZID=America/New_York:20271101T000000
DTEND;TZID=America/New_York:20271101T235900
LOCATION:
SUMMARY:Shelter Closed
END:VEVENT
END:VCALENDAR
