BEGIN:VCALENDAR
VERSION:2.0
PRODID:-//humanesocietycc.org//NONSGML kigkonsult.se iCalcreator 2.30.10//
CALSCALE:GREGORIAN
METHOD:PUBLISH
UID:0c11e11f-c6dd-45f4-b1fa-1383021e6d1d
X-WR-CALDESC:
X-WR-RELCALID:ee21297ea5daf6b2c3ada1b451201568
X-WR-TIMEZONE:America/New_York
BEGIN:VTIMEZONE
TZID:America/New_York
BEGIN:STANDARD
TZNAME:EST
DTSTART:20271107T020000
TZOFFSETFROM:-0400
TZOFFSETTO:-0500
RDATE:20281105T020000
END:STANDARD
BEGIN:DAYLIGHT
TZNAME:EDT
DTSTART:20270314T020000
TZOFFSETFROM:-0500
TZOFFSETTO:-0400
RDATE:20280312T020000
RDATE:20290311T020000
END:DAYLIGHT
END:VTIMEZONE
BEGIN:VEVENT
UID:116b3099-5ca4-4bec-aa31-791f79954d1e
DTSTAMP:20260422T104730Z
DESCRIPTION:
DTSTART;TZID=America/New_York:20271122T000000
DTEND;TZID=America/New_York:20271122T235900
LOCATION:
SUMMARY:Shelter Closed
END:VEVENT
END:VCALENDAR
