BEGIN:VCALENDAR
VERSION:2.0
PRODID:-//humanesocietycc.org//NONSGML kigkonsult.se iCalcreator 2.30.10//
CALSCALE:GREGORIAN
METHOD:PUBLISH
UID:15d3cf20-c8b6-4183-8a28-6205c3ce11a7
X-WR-CALDESC:
X-WR-RELCALID:677d40071ac15099cc298baaeeec35f4
X-WR-TIMEZONE:America/New_York
BEGIN:VTIMEZONE
TZID:America/New_York
BEGIN:STANDARD
TZNAME:EST
DTSTART:20271107T020000
TZOFFSETFROM:-0400
TZOFFSETTO:-0500
RDATE:20281105T020000
END:STANDARD
BEGIN:DAYLIGHT
TZNAME:EDT
DTSTART:20270314T020000
TZOFFSETFROM:-0500
TZOFFSETTO:-0400
RDATE:20280312T020000
RDATE:20290311T020000
END:DAYLIGHT
END:VTIMEZONE
BEGIN:VEVENT
UID:4bf5dcbb-bb63-459b-ad7e-1c127dd2ecec
DTSTAMP:20260422T103819Z
DESCRIPTION:
DTSTART;TZID=America/New_York:20271129T000000
DTEND;TZID=America/New_York:20271129T235900
LOCATION:
SUMMARY:Shelter Closed
END:VEVENT
END:VCALENDAR
