BEGIN:VCALENDAR
VERSION:2.0
PRODID:-//humanesocietycc.org//NONSGML kigkonsult.se iCalcreator 2.30.10//
CALSCALE:GREGORIAN
METHOD:PUBLISH
UID:56363a02-c6c7-4d24-b313-328e0b09c74b
X-WR-CALDESC:
X-WR-RELCALID:55cb848fc802c25767a870be95e06669
X-WR-TIMEZONE:America/New_York
BEGIN:VTIMEZONE
TZID:America/New_York
BEGIN:STANDARD
TZNAME:EST
DTSTART:20271107T020000
TZOFFSETFROM:-0400
TZOFFSETTO:-0500
RDATE:20281105T020000
END:STANDARD
BEGIN:DAYLIGHT
TZNAME:EDT
DTSTART:20270314T020000
TZOFFSETFROM:-0500
TZOFFSETTO:-0400
RDATE:20280312T020000
RDATE:20290311T020000
END:DAYLIGHT
END:VTIMEZONE
BEGIN:VEVENT
UID:46e8a0b7-d49e-47c8-b305-b797b9affbf5
DTSTAMP:20260422T140631Z
DESCRIPTION:
DTSTART;TZID=America/New_York:20280103T000000
DTEND;TZID=America/New_York:20280103T235900
LOCATION:
SUMMARY:Shelter Closed
END:VEVENT
END:VCALENDAR
