BEGIN:VCALENDAR
VERSION:2.0
PRODID:-//humanesocietycc.org//NONSGML kigkonsult.se iCalcreator 2.30.10//
CALSCALE:GREGORIAN
METHOD:PUBLISH
UID:aeb2912e-205d-4489-b653-a9bc46d25d0c
X-WR-CALDESC:
X-WR-RELCALID:f81a871fcba5aab69e6d1b873801458a
X-WR-TIMEZONE:America/New_York
BEGIN:VTIMEZONE
TZID:America/New_York
BEGIN:STANDARD
TZNAME:EST
DTSTART:20271107T020000
TZOFFSETFROM:-0400
TZOFFSETTO:-0500
RDATE:20281105T020000
END:STANDARD
BEGIN:DAYLIGHT
TZNAME:EDT
DTSTART:20270314T020000
TZOFFSETFROM:-0500
TZOFFSETTO:-0400
RDATE:20280312T020000
RDATE:20290311T020000
END:DAYLIGHT
END:VTIMEZONE
BEGIN:VEVENT
UID:f123a34f-c02d-490e-af69-969f44ea3fdb
DTSTAMP:20260422T140805Z
DESCRIPTION:
DTSTART;TZID=America/New_York:20280110T000000
DTEND;TZID=America/New_York:20280110T235900
LOCATION:
SUMMARY:Shelter Closed
END:VEVENT
END:VCALENDAR
