BEGIN:VCALENDAR
VERSION:2.0
PRODID:-//humanesocietycc.org//NONSGML kigkonsult.se iCalcreator 2.30.10//
CALSCALE:GREGORIAN
METHOD:PUBLISH
UID:75acbcdd-33dc-4811-bfb2-e577a4775b4e
X-WR-CALDESC:
X-WR-RELCALID:35fa1c079e630475be1a1ad540a0a3fb
X-WR-TIMEZONE:America/New_York
BEGIN:VTIMEZONE
TZID:America/New_York
BEGIN:STANDARD
TZNAME:EST
DTSTART:20271107T020000
TZOFFSETFROM:-0400
TZOFFSETTO:-0500
RDATE:20281105T020000
END:STANDARD
BEGIN:DAYLIGHT
TZNAME:EDT
DTSTART:20270314T020000
TZOFFSETFROM:-0500
TZOFFSETTO:-0400
RDATE:20280312T020000
RDATE:20290311T020000
END:DAYLIGHT
END:VTIMEZONE
BEGIN:VEVENT
UID:25efd589-1f81-49f5-a0df-e31f41cbd6f9
DTSTAMP:20260422T140812Z
DESCRIPTION:
DTSTART;TZID=America/New_York:20280117T000000
DTEND;TZID=America/New_York:20280117T235900
LOCATION:
SUMMARY:Shelter Closed
END:VEVENT
END:VCALENDAR
