BEGIN:VCALENDAR
VERSION:2.0
PRODID:-//humanesocietycc.org//NONSGML kigkonsult.se iCalcreator 2.30.10//
CALSCALE:GREGORIAN
METHOD:PUBLISH
UID:ff2d87e9-245a-4a1a-ad71-b877ca7e08cc
X-WR-CALDESC:
X-WR-RELCALID:e2f75d6ffe9c809a34504a7cf28b547b
X-WR-TIMEZONE:America/New_York
BEGIN:VTIMEZONE
TZID:America/New_York
BEGIN:STANDARD
TZNAME:EST
DTSTART:20271107T020000
TZOFFSETFROM:-0400
TZOFFSETTO:-0500
RDATE:20281105T020000
END:STANDARD
BEGIN:DAYLIGHT
TZNAME:EDT
DTSTART:20280312T020000
TZOFFSETFROM:-0500
TZOFFSETTO:-0400
RDATE:20290311T020000
END:DAYLIGHT
END:VTIMEZONE
BEGIN:VEVENT
UID:94fdcb6c-1480-403e-a079-bae5cd1a50c6
DTSTAMP:20260422T171442Z
DESCRIPTION:
DTSTART;TZID=America/New_York:20280327T000000
DTEND;TZID=America/New_York:20280327T235900
LOCATION:
SUMMARY:Shelter Closed
END:VEVENT
END:VCALENDAR
