BEGIN:VCALENDAR
VERSION:2.0
PRODID:-//humanesocietycc.org//NONSGML kigkonsult.se iCalcreator 2.30.10//
CALSCALE:GREGORIAN
METHOD:PUBLISH
UID:5a735961-4df3-4560-addd-da7999ea7b64
X-WR-CALDESC:
X-WR-RELCALID:1b75c63adacb249b87d21d260cf3b821
X-WR-TIMEZONE:America/New_York
BEGIN:VTIMEZONE
TZID:America/New_York
BEGIN:STANDARD
TZNAME:EST
DTSTART:20271107T020000
TZOFFSETFROM:-0400
TZOFFSETTO:-0500
RDATE:20281105T020000
END:STANDARD
BEGIN:DAYLIGHT
TZNAME:EDT
DTSTART:20280312T020000
TZOFFSETFROM:-0500
TZOFFSETTO:-0400
RDATE:20290311T020000
END:DAYLIGHT
END:VTIMEZONE
BEGIN:VEVENT
UID:24427879-cbb3-4463-971d-962606e3f0f9
DTSTAMP:20260422T184601Z
DESCRIPTION:
DTSTART;TZID=America/New_York:20280403T000000
DTEND;TZID=America/New_York:20280403T235900
LOCATION:
SUMMARY:Shelter Closed
END:VEVENT
END:VCALENDAR
