BEGIN:VCALENDAR
VERSION:2.0
PRODID:-//humanesocietycc.org//NONSGML kigkonsult.se iCalcreator 2.30.10//
CALSCALE:GREGORIAN
METHOD:PUBLISH
UID:01d041b4-ce31-4742-9644-d0478c7f45af
X-WR-CALDESC:
X-WR-RELCALID:2b89f1a500d5d37d3cd406094fba6c5f
X-WR-TIMEZONE:America/New_York
BEGIN:VTIMEZONE
TZID:America/New_York
BEGIN:STANDARD
TZNAME:EST
DTSTART:20271107T020000
TZOFFSETFROM:-0400
TZOFFSETTO:-0500
RDATE:20281105T020000
END:STANDARD
BEGIN:DAYLIGHT
TZNAME:EDT
DTSTART:20280312T020000
TZOFFSETFROM:-0500
TZOFFSETTO:-0400
RDATE:20290311T020000
END:DAYLIGHT
END:VTIMEZONE
BEGIN:VEVENT
UID:c2707a8e-0e06-4029-a286-47930be2bf15
DTSTAMP:20260422T184812Z
DESCRIPTION:
DTSTART;TZID=America/New_York:20280410T000000
DTEND;TZID=America/New_York:20280410T235900
LOCATION:
SUMMARY:Shelter Closed
END:VEVENT
END:VCALENDAR
