BEGIN:VCALENDAR
VERSION:2.0
PRODID:-//humanesocietycc.org//NONSGML kigkonsult.se iCalcreator 2.30.10//
CALSCALE:GREGORIAN
METHOD:PUBLISH
UID:30bd3443-b0bf-44e7-9c21-bc05ed1f884f
X-WR-CALDESC:
X-WR-RELCALID:abd1127cd9fba89b2a95819c553e9c98
X-WR-TIMEZONE:America/New_York
BEGIN:VTIMEZONE
TZID:America/New_York
BEGIN:STANDARD
TZNAME:EST
DTSTART:20271107T020000
TZOFFSETFROM:-0400
TZOFFSETTO:-0500
RDATE:20281105T020000
END:STANDARD
BEGIN:DAYLIGHT
TZNAME:EDT
DTSTART:20280312T020000
TZOFFSETFROM:-0500
TZOFFSETTO:-0400
RDATE:20290311T020000
END:DAYLIGHT
END:VTIMEZONE
BEGIN:VEVENT
UID:9ac3646c-2263-4fc9-9ee7-93d004f62d01
DTSTAMP:20260422T191056Z
DESCRIPTION:
DTSTART;TZID=America/New_York:20280424T000000
DTEND;TZID=America/New_York:20280424T235900
LOCATION:
SUMMARY:Shelter Closed
END:VEVENT
END:VCALENDAR
