BEGIN:VCALENDAR
VERSION:2.0
PRODID:-//humanesocietycc.org//NONSGML kigkonsult.se iCalcreator 2.30.10//
CALSCALE:GREGORIAN
METHOD:PUBLISH
UID:b0ffbcce-315f-4569-b8b2-6eca200b1a9c
X-WR-CALDESC:
X-WR-RELCALID:01e89adf336d566447742cf2aa5f9b0f
X-WR-TIMEZONE:America/New_York
BEGIN:VTIMEZONE
TZID:America/New_York
BEGIN:STANDARD
TZNAME:EST
DTSTART:20271107T020000
TZOFFSETFROM:-0400
TZOFFSETTO:-0500
RDATE:20281105T020000
END:STANDARD
BEGIN:DAYLIGHT
TZNAME:EDT
DTSTART:20280312T020000
TZOFFSETFROM:-0500
TZOFFSETTO:-0400
RDATE:20290311T020000
END:DAYLIGHT
END:VTIMEZONE
BEGIN:VEVENT
UID:5a8ab6df-5003-4a5a-8e9f-d32768f9a04f
DTSTAMP:20260422T202817Z
DESCRIPTION:
DTSTART;TZID=America/New_York:20280501T000000
DTEND;TZID=America/New_York:20280501T235900
LOCATION:
SUMMARY:Shelter Closed
END:VEVENT
END:VCALENDAR
