BEGIN:VCALENDAR
VERSION:2.0
PRODID:-//humanesocietycc.org//NONSGML kigkonsult.se iCalcreator 2.30.10//
CALSCALE:GREGORIAN
METHOD:PUBLISH
UID:babcaef8-31af-4e06-b7e5-ac8e11dfe91b
X-WR-CALDESC:
X-WR-RELCALID:6623539f5c33bf9b7a2e756bbf2f6b44
X-WR-TIMEZONE:America/New_York
BEGIN:VTIMEZONE
TZID:America/New_York
BEGIN:STANDARD
TZNAME:EST
DTSTART:20271107T020000
TZOFFSETFROM:-0400
TZOFFSETTO:-0500
RDATE:20281105T020000
RDATE:20291104T020000
END:STANDARD
BEGIN:DAYLIGHT
TZNAME:EDT
DTSTART:20280312T020000
TZOFFSETFROM:-0500
TZOFFSETTO:-0400
RDATE:20290311T020000
END:DAYLIGHT
END:VTIMEZONE
BEGIN:VEVENT
UID:d6890bbf-9dc4-4377-a767-30f0dc8db221
DTSTAMP:20260422T220005Z
DESCRIPTION:
DTSTART;TZID=America/New_York:20280605T000000
DTEND;TZID=America/New_York:20280605T235900
LOCATION:
SUMMARY:Shelter Closed
END:VEVENT
END:VCALENDAR
