BEGIN:VCALENDAR
VERSION:2.0
PRODID:-//humanesocietycc.org//NONSGML kigkonsult.se iCalcreator 2.30.10//
CALSCALE:GREGORIAN
METHOD:PUBLISH
UID:e64947cf-ef17-4138-baf1-f2736b5ac63a
X-WR-CALDESC:
X-WR-RELCALID:827407134f662d9503b09b4ffb53d793
X-WR-TIMEZONE:America/New_York
BEGIN:VTIMEZONE
TZID:America/New_York
BEGIN:STANDARD
TZNAME:EST
DTSTART:20271107T020000
TZOFFSETFROM:-0400
TZOFFSETTO:-0500
RDATE:20281105T020000
RDATE:20291104T020000
END:STANDARD
BEGIN:DAYLIGHT
TZNAME:EDT
DTSTART:20280312T020000
TZOFFSETFROM:-0500
TZOFFSETTO:-0400
RDATE:20290311T020000
END:DAYLIGHT
END:VTIMEZONE
BEGIN:VEVENT
UID:2a06792c-2b21-4eb3-b13b-b859814d69d2
DTSTAMP:20260423T000513Z
DESCRIPTION:
DTSTART;TZID=America/New_York:20280710T000000
DTEND;TZID=America/New_York:20280710T235900
LOCATION:
SUMMARY:Shelter Closed
END:VEVENT
END:VCALENDAR
