BEGIN:VCALENDAR
VERSION:2.0
PRODID:-//humanesocietycc.org//NONSGML kigkonsult.se iCalcreator 2.30.10//
CALSCALE:GREGORIAN
METHOD:PUBLISH
UID:56f79afd-f98d-444f-b272-ab12c3990cfd
X-WR-CALDESC:
X-WR-RELCALID:035109c78532eadcbf6d56653fc6db50
X-WR-TIMEZONE:America/New_York
BEGIN:VTIMEZONE
TZID:America/New_York
BEGIN:STANDARD
TZNAME:EST
DTSTART:20271107T020000
TZOFFSETFROM:-0400
TZOFFSETTO:-0500
RDATE:20281105T020000
RDATE:20291104T020000
END:STANDARD
BEGIN:DAYLIGHT
TZNAME:EDT
DTSTART:20280312T020000
TZOFFSETFROM:-0500
TZOFFSETTO:-0400
RDATE:20290311T020000
END:DAYLIGHT
END:VTIMEZONE
BEGIN:VEVENT
UID:e140ab6c-8061-4ca6-80e8-cb45463780f6
DTSTAMP:20260423T000108Z
DESCRIPTION:
DTSTART;TZID=America/New_York:20280724T000000
DTEND;TZID=America/New_York:20280724T235900
LOCATION:
SUMMARY:Shelter Closed
END:VEVENT
END:VCALENDAR
