BEGIN:VCALENDAR
VERSION:2.0
PRODID:-//humanesocietycc.org//NONSGML kigkonsult.se iCalcreator 2.30.10//
CALSCALE:GREGORIAN
METHOD:PUBLISH
UID:1bfc8629-f062-4a93-af22-159f2afdef73
X-WR-CALDESC:
X-WR-RELCALID:449ee0059500b5cea352acab0f371db0
X-WR-TIMEZONE:America/New_York
BEGIN:VTIMEZONE
TZID:America/New_York
BEGIN:STANDARD
TZNAME:EST
DTSTART:20271107T020000
TZOFFSETFROM:-0400
TZOFFSETTO:-0500
RDATE:20281105T020000
RDATE:20291104T020000
END:STANDARD
BEGIN:DAYLIGHT
TZNAME:EDT
DTSTART:20280312T020000
TZOFFSETFROM:-0500
TZOFFSETTO:-0400
RDATE:20290311T020000
END:DAYLIGHT
END:VTIMEZONE
BEGIN:VEVENT
UID:45c6ce08-36ac-41bc-a360-79f718726cd7
DTSTAMP:20260423T013346Z
DESCRIPTION:
DTSTART;TZID=America/New_York:20280807T000000
DTEND;TZID=America/New_York:20280807T235900
LOCATION:
SUMMARY:Shelter Closed
END:VEVENT
END:VCALENDAR
