BEGIN:VCALENDAR
VERSION:2.0
PRODID:-//humanesocietycc.org//NONSGML kigkonsult.se iCalcreator 2.30.10//
CALSCALE:GREGORIAN
METHOD:PUBLISH
UID:2c241b1a-887d-443f-8ed3-516cb3ba1e82
X-WR-CALDESC:
X-WR-RELCALID:b285dccb1caaee775c8ce8cb167e4749
X-WR-TIMEZONE:America/New_York
BEGIN:VTIMEZONE
TZID:America/New_York
BEGIN:STANDARD
TZNAME:EST
DTSTART:20271107T020000
TZOFFSETFROM:-0400
TZOFFSETTO:-0500
RDATE:20281105T020000
RDATE:20291104T020000
END:STANDARD
BEGIN:DAYLIGHT
TZNAME:EDT
DTSTART:20280312T020000
TZOFFSETFROM:-0500
TZOFFSETTO:-0400
RDATE:20290311T020000
END:DAYLIGHT
END:VTIMEZONE
BEGIN:VEVENT
UID:a8afcce8-6c2d-43a8-aef7-8408a23cf77b
DTSTAMP:20260423T125611Z
DESCRIPTION:
DTSTART;TZID=America/New_York:20280814T000000
DTEND;TZID=America/New_York:20280814T235900
LOCATION:
SUMMARY:Shelter Closed
END:VEVENT
END:VCALENDAR
