BEGIN:VCALENDAR
VERSION:2.0
PRODID:-//humanesocietycc.org//NONSGML kigkonsult.se iCalcreator 2.30.10//
CALSCALE:GREGORIAN
METHOD:PUBLISH
UID:224a541e-f96c-4b08-9830-650115ea57e4
X-WR-CALDESC:
X-WR-RELCALID:388111923c76f88d444842b366246356
X-WR-TIMEZONE:America/New_York
BEGIN:VTIMEZONE
TZID:America/New_York
BEGIN:STANDARD
TZNAME:EST
DTSTART:20271107T020000
TZOFFSETFROM:-0400
TZOFFSETTO:-0500
RDATE:20281105T020000
RDATE:20291104T020000
END:STANDARD
BEGIN:DAYLIGHT
TZNAME:EDT
DTSTART:20280312T020000
TZOFFSETFROM:-0500
TZOFFSETTO:-0400
RDATE:20290311T020000
END:DAYLIGHT
END:VTIMEZONE
BEGIN:VEVENT
UID:5a037269-f6b4-484a-96d9-51643979ffaa
DTSTAMP:20260423T032715Z
DESCRIPTION:
DTSTART;TZID=America/New_York:20280904T000000
DTEND;TZID=America/New_York:20280904T235900
LOCATION:
SUMMARY:Shelter Closed
END:VEVENT
END:VCALENDAR
