BEGIN:VCALENDAR
VERSION:2.0
PRODID:-//humanesocietycc.org//NONSGML kigkonsult.se iCalcreator 2.30.10//
CALSCALE:GREGORIAN
METHOD:PUBLISH
UID:dfceab67-9acc-4037-bbf4-8228ced15342
X-WR-CALDESC:
X-WR-RELCALID:5a2c34f48974e6c4ac1cafee3afc797b
X-WR-TIMEZONE:America/New_York
BEGIN:VTIMEZONE
TZID:America/New_York
BEGIN:STANDARD
TZNAME:EST
DTSTART:20271107T020000
TZOFFSETFROM:-0400
TZOFFSETTO:-0500
RDATE:20281105T020000
RDATE:20291104T020000
END:STANDARD
BEGIN:DAYLIGHT
TZNAME:EDT
DTSTART:20280312T020000
TZOFFSETFROM:-0500
TZOFFSETTO:-0400
RDATE:20290311T020000
RDATE:20300310T020000
END:DAYLIGHT
END:VTIMEZONE
BEGIN:VEVENT
UID:6be23791-fb14-40ab-8283-4084cc8c89e1
DTSTAMP:20260423T031916Z
DESCRIPTION:
DTSTART;TZID=America/New_York:20280918T000000
DTEND;TZID=America/New_York:20280918T235900
LOCATION:
SUMMARY:Shelter Closed
END:VEVENT
END:VCALENDAR
