BEGIN:VCALENDAR
VERSION:2.0
PRODID:-//humanesocietycc.org//NONSGML kigkonsult.se iCalcreator 2.30.10//
CALSCALE:GREGORIAN
METHOD:PUBLISH
UID:65baec1b-d19d-4ce9-a37e-e461960fd2d9
X-WR-CALDESC:
X-WR-RELCALID:4f02fe7a71b10dbc3fe6d25093965a8b
X-WR-TIMEZONE:America/New_York
BEGIN:VTIMEZONE
TZID:America/New_York
BEGIN:STANDARD
TZNAME:EST
DTSTART:20271107T020000
TZOFFSETFROM:-0400
TZOFFSETTO:-0500
RDATE:20281105T020000
RDATE:20291104T020000
END:STANDARD
BEGIN:DAYLIGHT
TZNAME:EDT
DTSTART:20280312T020000
TZOFFSETFROM:-0500
TZOFFSETTO:-0400
RDATE:20290311T020000
RDATE:20300310T020000
END:DAYLIGHT
END:VTIMEZONE
BEGIN:VEVENT
UID:9a0def0f-a555-4b44-b7a6-58b6e20ef117
DTSTAMP:20260423T050044Z
DESCRIPTION:
DTSTART;TZID=America/New_York:20281016T000000
DTEND;TZID=America/New_York:20281016T235900
LOCATION:
SUMMARY:Shelter Closed
END:VEVENT
END:VCALENDAR
