BEGIN:VCALENDAR
VERSION:2.0
PRODID:-//humanesocietycc.org//NONSGML kigkonsult.se iCalcreator 2.30.10//
CALSCALE:GREGORIAN
METHOD:PUBLISH
UID:d1d8645c-ee86-445d-ab33-7d440c0e9fea
X-WR-CALDESC:
X-WR-RELCALID:70dbdc6ff17a6bb1486f8e4c74dabc90
X-WR-TIMEZONE:America/New_York
BEGIN:VTIMEZONE
TZID:America/New_York
BEGIN:STANDARD
TZNAME:EST
DTSTART:20271107T020000
TZOFFSETFROM:-0400
TZOFFSETTO:-0500
RDATE:20281105T020000
RDATE:20291104T020000
END:STANDARD
BEGIN:DAYLIGHT
TZNAME:EDT
DTSTART:20280312T020000
TZOFFSETFROM:-0500
TZOFFSETTO:-0400
RDATE:20290311T020000
RDATE:20300310T020000
END:DAYLIGHT
END:VTIMEZONE
BEGIN:VEVENT
UID:ea0e598f-1c13-4370-a5e6-042ee7f373ce
DTSTAMP:20260423T045648Z
DESCRIPTION:
DTSTART;TZID=America/New_York:20281023T000000
DTEND;TZID=America/New_York:20281023T235900
LOCATION:
SUMMARY:Shelter Closed
END:VEVENT
END:VCALENDAR
