BEGIN:VCALENDAR
VERSION:2.0
PRODID:-//humanesocietycc.org//NONSGML kigkonsult.se iCalcreator 2.30.10//
CALSCALE:GREGORIAN
METHOD:PUBLISH
UID:bbe32de2-e63c-42c6-b5de-f22b566ccf72
X-WR-CALDESC:
X-WR-RELCALID:d80b99b8f156bd64f15992a6e6e4d428
X-WR-TIMEZONE:America/New_York
BEGIN:VTIMEZONE
TZID:America/New_York
BEGIN:STANDARD
TZNAME:EST
DTSTART:20271107T020000
TZOFFSETFROM:-0400
TZOFFSETTO:-0500
RDATE:20281105T020000
RDATE:20291104T020000
END:STANDARD
BEGIN:DAYLIGHT
TZNAME:EDT
DTSTART:20280312T020000
TZOFFSETFROM:-0500
TZOFFSETTO:-0400
RDATE:20290311T020000
RDATE:20300310T020000
END:DAYLIGHT
END:VTIMEZONE
BEGIN:VEVENT
UID:453b549d-f50a-45b7-84f1-4512f1b33ae3
DTSTAMP:20260423T063604Z
DESCRIPTION:
DTSTART;TZID=America/New_York:20281106T000000
DTEND;TZID=America/New_York:20281106T235900
LOCATION:
SUMMARY:Shelter Closed
END:VEVENT
END:VCALENDAR
