BEGIN:VCALENDAR
VERSION:2.0
PRODID:-//humanesocietycc.org//NONSGML kigkonsult.se iCalcreator 2.30.10//
CALSCALE:GREGORIAN
METHOD:PUBLISH
UID:d3e61b93-c17c-4c85-b390-686221d3090a
X-WR-CALDESC:
X-WR-RELCALID:cda1505e8437c87dc66081b747a7e893
X-WR-TIMEZONE:America/New_York
BEGIN:VTIMEZONE
TZID:America/New_York
BEGIN:STANDARD
TZNAME:EST
DTSTART:20281105T020000
TZOFFSETFROM:-0400
TZOFFSETTO:-0500
RDATE:20291104T020000
END:STANDARD
BEGIN:DAYLIGHT
TZNAME:EDT
DTSTART:20280312T020000
TZOFFSETFROM:-0500
TZOFFSETTO:-0400
RDATE:20290311T020000
RDATE:20300310T020000
END:DAYLIGHT
END:VTIMEZONE
BEGIN:VEVENT
UID:d30157de-b871-4e05-a93a-6ad1661c8ed6
DTSTAMP:20260423T062135Z
DESCRIPTION:
DTSTART;TZID=America/New_York:20281120T000000
DTEND;TZID=America/New_York:20281120T235900
LOCATION:
SUMMARY:Shelter Closed
END:VEVENT
END:VCALENDAR
