BEGIN:VCALENDAR
VERSION:2.0
PRODID:-//humanesocietycc.org//NONSGML kigkonsult.se iCalcreator 2.30.10//
CALSCALE:GREGORIAN
METHOD:PUBLISH
UID:c8c344c8-884e-4c6a-a98f-10af74d62a78
X-WR-CALDESC:
X-WR-RELCALID:36043c76d58c94288c9c3f08cda346ba
X-WR-TIMEZONE:America/New_York
BEGIN:VTIMEZONE
TZID:America/New_York
BEGIN:STANDARD
TZNAME:EST
DTSTART:20281105T020000
TZOFFSETFROM:-0400
TZOFFSETTO:-0500
RDATE:20291104T020000
END:STANDARD
BEGIN:DAYLIGHT
TZNAME:EDT
DTSTART:20280312T020000
TZOFFSETFROM:-0500
TZOFFSETTO:-0400
RDATE:20290311T020000
RDATE:20300310T020000
END:DAYLIGHT
END:VTIMEZONE
BEGIN:VEVENT
UID:71d532e7-0090-4305-b637-9240927d293b
DTSTAMP:20260423T063307Z
DESCRIPTION:
DTSTART;TZID=America/New_York:20281127T000000
DTEND;TZID=America/New_York:20281127T235900
LOCATION:
SUMMARY:Shelter Closed
END:VEVENT
END:VCALENDAR
