BEGIN:VCALENDAR
VERSION:2.0
PRODID:-//humanesocietycc.org//NONSGML kigkonsult.se iCalcreator 2.30.10//
CALSCALE:GREGORIAN
METHOD:PUBLISH
UID:9b89d9f5-2834-4384-b736-c59f66f6339c
X-WR-CALDESC:
X-WR-RELCALID:9cc0d010c295c73a6f4b4c81571e3c19
X-WR-TIMEZONE:America/New_York
BEGIN:VTIMEZONE
TZID:America/New_York
BEGIN:STANDARD
TZNAME:EST
DTSTART:20281105T020000
TZOFFSETFROM:-0400
TZOFFSETTO:-0500
RDATE:20291104T020000
END:STANDARD
BEGIN:DAYLIGHT
TZNAME:EDT
DTSTART:20280312T020000
TZOFFSETFROM:-0500
TZOFFSETTO:-0400
RDATE:20290311T020000
RDATE:20300310T020000
END:DAYLIGHT
END:VTIMEZONE
BEGIN:VEVENT
UID:0d730e86-6c34-4669-a521-1abf32f89927
DTSTAMP:20260423T113431Z
DESCRIPTION:
DTSTART;TZID=America/New_York:20290205T000000
DTEND;TZID=America/New_York:20290205T235900
LOCATION:
SUMMARY:Shelter Closed
END:VEVENT
END:VCALENDAR
