BEGIN:VCALENDAR
VERSION:2.0
PRODID:-//humanesocietycc.org//NONSGML kigkonsult.se iCalcreator 2.30.10//
CALSCALE:GREGORIAN
METHOD:PUBLISH
UID:efb11a96-6931-4898-84a2-33344f20b8d3
X-WR-CALDESC:
X-WR-RELCALID:b33e800666debc66a383be8ba2266afc
X-WR-TIMEZONE:America/New_York
BEGIN:VTIMEZONE
TZID:America/New_York
BEGIN:STANDARD
TZNAME:EST
DTSTART:20281105T020000
TZOFFSETFROM:-0400
TZOFFSETTO:-0500
RDATE:20291104T020000
END:STANDARD
BEGIN:DAYLIGHT
TZNAME:EDT
DTSTART:20280312T020000
TZOFFSETFROM:-0500
TZOFFSETTO:-0400
RDATE:20290311T020000
RDATE:20300310T020000
END:DAYLIGHT
END:VTIMEZONE
BEGIN:VEVENT
UID:fb82fde6-c6fc-4e55-90e2-eae79f3e4ab9
DTSTAMP:20260423T113531Z
DESCRIPTION:
DTSTART;TZID=America/New_York:20290212T000000
DTEND;TZID=America/New_York:20290212T235900
LOCATION:
SUMMARY:Shelter Closed
END:VEVENT
END:VCALENDAR
