BEGIN:VCALENDAR
VERSION:2.0
PRODID:-//humanesocietycc.org//NONSGML kigkonsult.se iCalcreator 2.30.10//
CALSCALE:GREGORIAN
METHOD:PUBLISH
UID:68c00078-84d0-4bbf-bf39-4dcb224a6229
X-WR-CALDESC:
X-WR-RELCALID:71b4570186d77c5ccaa5a62927893a33
X-WR-TIMEZONE:America/New_York
BEGIN:VTIMEZONE
TZID:America/New_York
BEGIN:STANDARD
TZNAME:EST
DTSTART:20281105T020000
TZOFFSETFROM:-0400
TZOFFSETTO:-0500
RDATE:20291104T020000
END:STANDARD
BEGIN:DAYLIGHT
TZNAME:EDT
DTSTART:20280312T020000
TZOFFSETFROM:-0500
TZOFFSETTO:-0400
RDATE:20290311T020000
RDATE:20300310T020000
END:DAYLIGHT
END:VTIMEZONE
BEGIN:VEVENT
UID:88bc858a-f6e9-47d7-ad79-6db227bc234d
DTSTAMP:20260423T112817Z
DESCRIPTION:
DTSTART;TZID=America/New_York:20290219T000000
DTEND;TZID=America/New_York:20290219T235900
LOCATION:
SUMMARY:Shelter Closed
END:VEVENT
END:VCALENDAR
