BEGIN:VCALENDAR
VERSION:2.0
PRODID:-//humanesocietycc.org//NONSGML kigkonsult.se iCalcreator 2.30.10//
CALSCALE:GREGORIAN
METHOD:PUBLISH
UID:6e959d55-1e5e-4273-aef1-bdd3136be794
X-WR-CALDESC:
X-WR-RELCALID:41ae6c8c083eb61c93078965741db26a
X-WR-TIMEZONE:America/New_York
BEGIN:VTIMEZONE
TZID:America/New_York
BEGIN:STANDARD
TZNAME:EST
DTSTART:20281105T020000
TZOFFSETFROM:-0400
TZOFFSETTO:-0500
RDATE:20291104T020000
END:STANDARD
BEGIN:DAYLIGHT
TZNAME:EDT
DTSTART:20280312T020000
TZOFFSETFROM:-0500
TZOFFSETTO:-0400
RDATE:20290311T020000
RDATE:20300310T020000
END:DAYLIGHT
END:VTIMEZONE
BEGIN:VEVENT
UID:2f3c1207-ddf9-438a-9ab6-46ca09204597
DTSTAMP:20260423T110847Z
DESCRIPTION:
DTSTART;TZID=America/New_York:20290226T000000
DTEND;TZID=America/New_York:20290226T235900
LOCATION:
SUMMARY:Shelter Closed
END:VEVENT
END:VCALENDAR
