BEGIN:VCALENDAR
VERSION:2.0
PRODID:-//humanesocietycc.org//NONSGML kigkonsult.se iCalcreator 2.30.10//
CALSCALE:GREGORIAN
METHOD:PUBLISH
UID:26d2bafa-2791-4e05-91c4-db1bf17cd406
X-WR-CALDESC:
X-WR-RELCALID:e11f150a4a348244a9d06d485426a5a6
X-WR-TIMEZONE:America/New_York
BEGIN:VTIMEZONE
TZID:America/New_York
BEGIN:STANDARD
TZNAME:EST
DTSTART:20281105T020000
TZOFFSETFROM:-0400
TZOFFSETTO:-0500
RDATE:20291104T020000
END:STANDARD
BEGIN:DAYLIGHT
TZNAME:EDT
DTSTART:20290311T020000
TZOFFSETFROM:-0500
TZOFFSETTO:-0400
RDATE:20300310T020000
END:DAYLIGHT
END:VTIMEZONE
BEGIN:VEVENT
UID:039dbd10-3adc-4b3d-88c7-7d3926d43442
DTSTAMP:20260423T125930Z
DESCRIPTION:
DTSTART;TZID=America/New_York:20290326T000000
DTEND;TZID=America/New_York:20290326T235900
LOCATION:
SUMMARY:Shelter Closed
END:VEVENT
END:VCALENDAR
