BEGIN:VCALENDAR
VERSION:2.0
PRODID:-//humanesocietycc.org//NONSGML kigkonsult.se iCalcreator 2.30.10//
CALSCALE:GREGORIAN
METHOD:PUBLISH
UID:e8c209db-aa47-4511-a148-b127c206b0f8
X-WR-CALDESC:
X-WR-RELCALID:2937151b67061ed9ca04a2497012536d
X-WR-TIMEZONE:America/New_York
BEGIN:VTIMEZONE
TZID:America/New_York
BEGIN:STANDARD
TZNAME:EST
DTSTART:20281105T020000
TZOFFSETFROM:-0400
TZOFFSETTO:-0500
RDATE:20291104T020000
END:STANDARD
BEGIN:DAYLIGHT
TZNAME:EDT
DTSTART:20290311T020000
TZOFFSETFROM:-0500
TZOFFSETTO:-0400
RDATE:20300310T020000
END:DAYLIGHT
END:VTIMEZONE
BEGIN:VEVENT
UID:f8de6513-aa7f-4791-9e04-e005dba0dcdb
DTSTAMP:20260423T144909Z
DESCRIPTION:
DTSTART;TZID=America/New_York:20290402T000000
DTEND;TZID=America/New_York:20290402T235900
LOCATION:
SUMMARY:Shelter Closed
END:VEVENT
END:VCALENDAR
