BEGIN:VCALENDAR
VERSION:2.0
PRODID:-//humanesocietycc.org//NONSGML kigkonsult.se iCalcreator 2.30.10//
CALSCALE:GREGORIAN
METHOD:PUBLISH
UID:bf80de3f-b64b-4bb1-a1c7-4daf3a3980f2
X-WR-CALDESC:
X-WR-RELCALID:44193032cfcf7b2ef055e2eea914ba30
X-WR-TIMEZONE:America/New_York
BEGIN:VTIMEZONE
TZID:America/New_York
BEGIN:STANDARD
TZNAME:EST
DTSTART:20281105T020000
TZOFFSETFROM:-0400
TZOFFSETTO:-0500
RDATE:20291104T020000
END:STANDARD
BEGIN:DAYLIGHT
TZNAME:EDT
DTSTART:20290311T020000
TZOFFSETFROM:-0500
TZOFFSETTO:-0400
RDATE:20300310T020000
END:DAYLIGHT
END:VTIMEZONE
BEGIN:VEVENT
UID:4de93856-777f-41cf-8987-4a58b6435bf4
DTSTAMP:20260423T144911Z
DESCRIPTION:
DTSTART;TZID=America/New_York:20290409T000000
DTEND;TZID=America/New_York:20290409T235900
LOCATION:
SUMMARY:Shelter Closed
END:VEVENT
END:VCALENDAR
