BEGIN:VCALENDAR
VERSION:2.0
PRODID:-//humanesocietycc.org//NONSGML kigkonsult.se iCalcreator 2.30.10//
CALSCALE:GREGORIAN
METHOD:PUBLISH
UID:a175cf7f-3e96-4d9a-b846-61e0f3ba3b30
X-WR-CALDESC:
X-WR-RELCALID:f2786458f4c16a358f0d16b331094339
X-WR-TIMEZONE:America/New_York
BEGIN:VTIMEZONE
TZID:America/New_York
BEGIN:STANDARD
TZNAME:EST
DTSTART:20281105T020000
TZOFFSETFROM:-0400
TZOFFSETTO:-0500
RDATE:20291104T020000
END:STANDARD
BEGIN:DAYLIGHT
TZNAME:EDT
DTSTART:20290311T020000
TZOFFSETFROM:-0500
TZOFFSETTO:-0400
RDATE:20300310T020000
END:DAYLIGHT
END:VTIMEZONE
BEGIN:VEVENT
UID:a2772835-a36b-4af2-8d3d-364c8e0da8e0
DTSTAMP:20260423T144221Z
DESCRIPTION:
DTSTART;TZID=America/New_York:20290423T000000
DTEND;TZID=America/New_York:20290423T235900
LOCATION:
SUMMARY:Shelter Closed
END:VEVENT
END:VCALENDAR
